BEGIN:VCALENDAR
VERSION:2.0
PRODID:-//CHAMBER DASHBOARD//EVENTS CALENDAR2.0//EN
CALSCALE:GREGORIAN
BEGIN:VEVENT
DTEND:20260317
UID:69e4d453dfb7e
DTSTAMP:20260419T131043Z
DESCRIPTION:
URL;VALUE=URI:https://anguschamber.com/event/st-patricks-day/
SUMMARY:St Patrick&#039\;s Day
DTSTART:20260317
END:VEVENT
END:VCALENDAR
